BEGIN:VCALENDAR
VERSION:2.0
PRODID:-//Synergy Training Group - ECPv6.15.20//NONSGML v1.0//EN
CALSCALE:GREGORIAN
METHOD:PUBLISH
X-ORIGINAL-URL:https://synergyshooting.com
X-WR-CALDESC:Events for Synergy Training Group
REFRESH-INTERVAL;VALUE=DURATION:PT1H
X-Robots-Tag:noindex
X-PUBLISHED-TTL:PT1H
BEGIN:VTIMEZONE
TZID:America/Chicago
BEGIN:DAYLIGHT
TZOFFSETFROM:-0600
TZOFFSETTO:-0500
TZNAME:CDT
DTSTART:20230312T080000
END:DAYLIGHT
BEGIN:STANDARD
TZOFFSETFROM:-0500
TZOFFSETTO:-0600
TZNAME:CST
DTSTART:20231105T070000
END:STANDARD
BEGIN:DAYLIGHT
TZOFFSETFROM:-0600
TZOFFSETTO:-0500
TZNAME:CDT
DTSTART:20240310T080000
END:DAYLIGHT
BEGIN:STANDARD
TZOFFSETFROM:-0500
TZOFFSETTO:-0600
TZNAME:CST
DTSTART:20241103T070000
END:STANDARD
BEGIN:DAYLIGHT
TZOFFSETFROM:-0600
TZOFFSETTO:-0500
TZNAME:CDT
DTSTART:20250309T080000
END:DAYLIGHT
BEGIN:STANDARD
TZOFFSETFROM:-0500
TZOFFSETTO:-0600
TZNAME:CST
DTSTART:20251102T070000
END:STANDARD
END:VTIMEZONE
BEGIN:VEVENT
DTSTART;TZID=America/Chicago:20240314T173000
DTEND;TZID=America/Chicago:20240314T203000
DTSTAMP:20260419T095231
CREATED:20231214T230156Z
LAST-MODIFIED:20231214T230248Z
UID:706-1710437400-1710448200@synergyshooting.com
SUMMARY:3-Hr Concealment Workshop
DESCRIPTION:In this day and age\, there are more holster\, belt\, and concealment companies than you can shake a stick at.  They all claim to offer the best product since sliced bread.  How do you know which one is best for your application?  Do you need a super stiff tactical belt or a nice leather that still supports the weight of your pistol?  Do you need a belly band or an ankle holster?  Do you need a holster that has a bunch of attachments or something simple?  Do you need a full leather\, hybrid\, or full kydex holster?  These are all questions that will be explained\, shown\, and answered in this 3 hour class.  You will even be able to try on many different products to see which you like best. \nHolsters\, belts\, guns\, etc are expensive and a life saving investment\, don't let the market fool you into buying into a product that could\, at minimum\, not support your needs\, or\, at worst\, fail you on the worst day of your life. \nThis class is taught by Tyler Tharp\, owner of Synergy\, who has carried a concealed firearm for over a decade\, made holsters for 5 years\, and taught hundreds of successful shooters.
URL:https://synergyshooting.com/class/3-hr-concealment-workshop/
LOCATION:Home Church\, 101 Parkway Rd\, Brandon\, MS\, 39047\, United States
CATEGORIES:Handgun Training
ATTACH;FMTTYPE=image/jpeg:https://synergyshooting.com/wp-content/uploads/2023/11/ksg.jpeg
END:VEVENT
BEGIN:VEVENT
DTSTART;TZID=America/Chicago:20240329T080000
DTEND;TZID=America/Chicago:20240330T170000
DTSTAMP:20260419T095231
CREATED:20231208T223625Z
LAST-MODIFIED:20231208T223714Z
UID:674-1711699200-1711818000@synergyshooting.com
SUMMARY:Cornerstone-Synergy 2 Gun Collaboration
DESCRIPTION:This is a one of a kind opportunity to train with both Tyler Tharp of Synergy Training Group and Eric Wise of Cornerstone Performance at one time. \nTyler will be teaching his flagship course Functional Pistol in a one day\, action packed\, format. \nCornerstone Performance will be teaching their Practical Magnification course.  This course is designed to help you get the most performance out of the magnified optic on your semi-auto rifle. We’ll address longer range shooting\, but the class will be focused on the practical application of aggressive shooting on small or obscured targets within 200 yards in a patrol – defensive situation. \nSign up at the Cornerstone Performance website\, link below.
URL:https://synergyshooting.com/class/cornerstone-synergy-2-gun-collaboration/
LOCATION:Texas Shooting Academy\, 300 US-183\, Florence\, TX\, 76527\, United States
END:VEVENT
END:VCALENDAR